BEGIN:VCALENDAR
VERSION:2.0
PRODID:-//S. Florida Business &amp; Wealth - ECPv6.15.20//NONSGML v1.0//EN
CALSCALE:GREGORIAN
METHOD:PUBLISH
X-WR-CALNAME:S. Florida Business &amp; Wealth
X-ORIGINAL-URL:https://sfbwmag.com
X-WR-CALDESC:Events for S. Florida Business &amp; Wealth
REFRESH-INTERVAL;VALUE=DURATION:PT1H
X-Robots-Tag:noindex
X-PUBLISHED-TTL:PT1H
BEGIN:VTIMEZONE
TZID:America/New_York
BEGIN:DAYLIGHT
TZOFFSETFROM:-0500
TZOFFSETTO:-0400
TZNAME:EDT
DTSTART:20240310T070000
END:DAYLIGHT
BEGIN:STANDARD
TZOFFSETFROM:-0400
TZOFFSETTO:-0500
TZNAME:EST
DTSTART:20241103T060000
END:STANDARD
BEGIN:DAYLIGHT
TZOFFSETFROM:-0500
TZOFFSETTO:-0400
TZNAME:EDT
DTSTART:20250309T070000
END:DAYLIGHT
BEGIN:STANDARD
TZOFFSETFROM:-0400
TZOFFSETTO:-0500
TZNAME:EST
DTSTART:20251102T060000
END:STANDARD
BEGIN:DAYLIGHT
TZOFFSETFROM:-0500
TZOFFSETTO:-0400
TZNAME:EDT
DTSTART:20260308T070000
END:DAYLIGHT
BEGIN:STANDARD
TZOFFSETFROM:-0400
TZOFFSETTO:-0500
TZNAME:EST
DTSTART:20261101T060000
END:STANDARD
BEGIN:DAYLIGHT
TZOFFSETFROM:-0500
TZOFFSETTO:-0400
TZNAME:EDT
DTSTART:20270314T070000
END:DAYLIGHT
BEGIN:STANDARD
TZOFFSETFROM:-0400
TZOFFSETTO:-0500
TZNAME:EST
DTSTART:20271107T060000
END:STANDARD
END:VTIMEZONE
BEGIN:VEVENT
DTSTART;TZID=America/New_York:20260120T190000
DTEND;TZID=America/New_York:20260120T210000
DTSTAMP:20260419T224423
CREATED:20260109T022836Z
LAST-MODIFIED:20260109T022836Z
UID:113603-1768935600-1768942800@sfbwmag.com
SUMMARY:Ritual Dry January + Vision Board Workshop at Arlo Wynwood
DESCRIPTION:Kick off the new year with intention at Arlo Wynwood during the Ritual Dry January + Vision Board Workshop on Tuesday\, January 20\, from 7-9 p.m. at the hotel’s signature restaurant\, Wyn Wyn. This immersive event features a tasting of Arlo’s newest zero-proof mocktails crafted with Ritual (including the Sober Margarita\, Mary’s Mule and Espress-no Martini) paired with a guided vision board experience designed to spark creativity\, set new goals and help manifest the year ahead. With all supplies provided\, guests are invited to mindfully sip\, create and set the tone for 2026 in a stylish\, inspiring setting. Tickets can be purchased for $26 per person via Eventbrite.
URL:https://sfbwmag.com/events/ritual-dry-january-vision-board-workshop-at-arlo-wynwood/
LOCATION:Arlo Wynwood\, 2217 NW Miami Court\, Miami\, Florida\, 33127\, United States
ATTACH;FMTTYPE=image/jpeg:https://sfbwmag.com/wp-content/uploads/2026/01/Marys-Mule.jpg
END:VEVENT
BEGIN:VEVENT
DTSTART;TZID=America/New_York:20260118T110000
DTEND;TZID=America/New_York:20260419T160000
DTSTAMP:20260419T224423
CREATED:20251212T195132Z
LAST-MODIFIED:20251212T195132Z
UID:112816-1768734000-1776614400@sfbwmag.com
SUMMARY:ZimSculpt Exhibit at Bonnet House Museum & Gardens
DESCRIPTION:Bonnet House Museum & Gardens is proud to announce its upcoming outdoor sculpture exhibition\, ZimSculpt\, that visitors will be able to view throughout the beautiful estate and gardens from January 18 through April 19\, 2026\, during regular Museum hours. \nVisitors will also enjoy daily live sculpting demonstrations by two world-renowned Zimbabwean artists\, Passmore Mupindiko and Shine Muzika\, providing a rare opportunity to see traditional Shona carving tools and techniques in action. Every piece on display—from bold garden centerpieces to intimate decorative works and meaningful keepsakes—will be available for purchase\, with proceeds directly supporting the artists and their communities in Zimbabwe. \nCost: Included with General Admission (House and Grounds: $25\, Grounds Only: $15). For tickets\, hours\, and more information\, please visit Bonnethouse.org/outdoor-exhibits.
URL:https://sfbwmag.com/events/zimsculpt-exhibit-at-bonnet-house-museum-gardens/
LOCATION:Bonnet House Museum & Gardens\, 900 North Birch Road\, Fort Lauderdale\, Florida\, United States
ATTACH;FMTTYPE=image/jpeg:https://sfbwmag.com/wp-content/uploads/2025/12/DSCN4677.jpg
END:VEVENT
BEGIN:VEVENT
DTSTART;TZID=America/New_York:20260118T110000
DTEND;TZID=America/New_York:20260419T150000
DTSTAMP:20260419T224423
CREATED:20251212T195138Z
LAST-MODIFIED:20251212T195138Z
UID:112919-1768734000-1776610800@sfbwmag.com
SUMMARY:ZimSculpt Exhibit at Bonnet House Museum & Gardens
DESCRIPTION:Bonnet House Museum & Gardens is proud to announce its upcoming outdoor sculpture exhibition\, ZimSculpt\, that visitors will be able to view throughout the beautiful estate and gardens from January 18 through April 19\, 2026\, during regular Museum hours. \nHonoring the artistic legacy of Frederic and Evelyn Bartlett\, ZimSculpt will offer visitors a high-quality\, immersive\, and inspiring cultural experience showcasing over 2\,000 hand-carved stone sculptures by 150 contemporary artists from Zimbabwe. Guest curators\, Vivienne and Joseph Croisette\, will display the works throughout the lush gardens and historic estate\, transforming Bonnet House into a sanctuary of global artistry and craftsmanship. Visitors will experience the beauty\, talent\, and true spirit of Zimbabwe’s sculptural tradition. \nVisitors will also enjoy daily live sculpting demonstrations by two world-renowned Zimbabwean artists\, Passmore Mupindiko and Shine Muzika\, providing a rare opportunity to see traditional Shona carving tools and techniques in action. Every piece on display—from bold garden centerpieces to intimate decorative works and meaningful keepsakes—will be available for purchase\, with proceeds directly supporting the artists and their communities in Zimbabwe. \nZimSculpt’s exhibitions have earned international acclaim\, with pieces having been displayed in prestigious collections worldwide\, including in the Museum of Modern Art in New York\, the Rodin Museum in Paris and the Hartsfield-Jackson Atlanta International Airport. The collection has even garnered the attention of prominent figures such as Sir Richard Attenborough\, actor Morgan Freeman\, the Rockefeller family\, and the British Royal Household. The ZimSculpt Exhibition at Bonnet House is made possible by donors Jim & Lynn LaBate\, Sherry Walters\, and Victoria Kirby. \nAdmission Prices Effective January 1\, 2026: Self-Guided Tours: $30 ($5 discount if purchased online)\, Guided Tours: $35\, Upstairs Tour: $40\, Grounds Tour Only: $15. \nLearn more here: https://www.bonnethouse.org/outdoor-exhibits/
URL:https://sfbwmag.com/events/zimsculpt-exhibit-at-bonnet-house-museum-gardens-2/
LOCATION:Bonnet House Museum & Gardens\, 900 North Birch Road\, Fort Lauderdale \, Florida\, 33304\, United States
ATTACH;FMTTYPE=image/jpeg:https://sfbwmag.com/wp-content/uploads/2025/12/IMG_3351.jpg
END:VEVENT
BEGIN:VEVENT
DTSTART;TZID=America/New_York:20260117T090000
DTEND;TZID=America/New_York:20260411T100000
DTSTAMP:20260419T224423
CREATED:20251231T133948Z
LAST-MODIFIED:20251231T133956Z
UID:113414-1768640400-1775901600@sfbwmag.com
SUMMARY:Get Fit 2026 Free Yoga\, Pilates and Zumba at Galleria Fort Lauderdale
DESCRIPTION:Start the new year with your best foot forward! Move\, stretch and recharge with Galleria Fort Lauderdale’s new Get Fit 2026 series of yoga\, Pilates and Zumba classes. Beginning at 9 a.m. on Saturday\, January 17\, guests can enjoy complimentary classes offered in partnership with Powerhouse Gym and Be YogaFit Studio. It’s the perfect way to stay active or get started\, joining friends and neighbors to exercise and meditate for increased energy\, reduced stress and relaxation. \nThe series\, designed to inspire health and wellness in an accessible\, welcoming and climate-controlled setting\, will take place every Saturday at 9 a.m. in the mall’s center near Swarovski. Classes will alternate weekly led by expert instructors – restorative yoga with Beth Shaw\, energizing Zumba with Sandra Fuller\, and flexible Pilates with Pauline Case. The January 17 class will kick off with Zumba\, followed by yoga on January 24 and Pilates on January 31. The cycle repeats every Saturday through April 11. \nBeth Shaw is the founder and CEO of YogaFit Training Systems Worldwide\, Inc.\, the world’s largest yoga\, mind\, body\, and education company\, and a trailblazer in the global wellness movement\, as well as an entrepreneur\, author\, and visionary who has redefined the approach to yoga\, fitness\, and mindful living. She has built the world’s largest Yoga Alliance-approved mind-body education school\, training over 250\,000 instructors in more than 60 countries. She is the author of four best-selling books\, each exploring the intersection of body\, mind\, and spirit through an empowering and practical lens: YogaFit\, YogaLean\, Healing Trauma with Yoga\, The YogaFit Athlete\, and YogaFit Basics & Back Health. As a leading voice in mind-body wellness and health coach\, Shaw shares her expertise and inspiring journey through numerous speaking engagements at corporate events\, conferences\, and universities\, as well as television\nappearances and podcast interviews. From the UN to USA Today\, Beth has presented and spoken on a multitude of topics to empower a diverse range of audiences globally. \nSandra Fuller is a passionate Zumba instructor with over eight years of experience in the fitness industry. Certified in Zumba\, Zumba Gold®\, Zumba Toning\, Zumba Kids and Aqua Zumba\, she offers high energy classes that blend fun\, rhythm\, and effective workouts. Her goal is to create classes that get people moving\, smiling\, and feeling great\, offering enjoyable and engaging workouts. \nPauline Case is an experienced fitness and wellness professional with over a decade of teaching across South Florida’s top gyms\, luxury residential buildings\, and wellness spaces. She specializes in strength training\, Pilates sculpt\, barre\, yoga\, and breathwork\, blending intelligent movement with mindful awareness to create classes that are both empowering and transformative. Known for her clear cueing\, athletic flow\, and encouraging presence\, Case’s classes focus on building strength\, improving mobility\, and enhancing posture\, while helping clients feel confident and connected in their bodies. Her background in breathwork and somatic practices allows her to guide students safely and effectively—whether they’re pushing through a challenging workout or learning how to recover and reset. She believes fitness should support the whole person—body\, mind\, and nervous system—and her goal is to help every client leave class feeling stronger\, more balanced\, and energized for life beyond the gym. \nParticipants of all ages and fitness levels are welcome to join. Registration is required at bit.ly/GalleriaFitness2026\, and attendees are encouraged to wear comfortable attire\, bring water\, a yoga mat and towels. \nFor details on the class schedule and additional upcoming events at Galleria Fort Lauderdale\, call (954) 564-1015 or visit www.galleriamall-fl.com. \nAbout Galleria Fort Lauderdale\nGalleria Fort Lauderdale\, recognized as one of South Florida\’s premier shopping destinations\, features a variety of popular dining and retail options. Macy’s\, Dillard’s and H&M anchor the center which also is home to Altar’d State\, Apple\, Banana Republic\, Free People and Pandora. The center features a fine roster of dining establishments such as Seasons 52\, The Capital Grille and P.F. Chang’s. Powerhouse Gym can also be found at the property. Just steps away from Fort Lauderdale’s world-famous beach\, it is minutes from the airport\, port\, downtown\, hotels and the Greater Fort Lauderdale Convention Center with ea
URL:https://sfbwmag.com/events/get-fit-2026-free-yoga-pilates-and-zumba-at-galleria-fort-lauderdale/
LOCATION:Galleria Fort Lauderdale\, 2414 E. Sunrise Blvd.\, Fort Lauderdale\, Florida\, 33304\, United States
CATEGORIES:Community Event
ATTACH;FMTTYPE=image/jpeg:https://sfbwmag.com/wp-content/uploads/2025/12/Galleria_Fitness_Schedule_1080x1080_DEC25.jpg
END:VEVENT
BEGIN:VEVENT
DTSTART;TZID=America/New_York:20260108T190000
DTEND;TZID=America/New_York:20260201T220000
DTSTAMP:20260419T224423
CREATED:20260109T023420Z
LAST-MODIFIED:20260109T023420Z
UID:113659-1767898800-1769983200@sfbwmag.com
SUMMARY:Island City Stage presents The Little Foxes
DESCRIPTION:Lillian Hellman’s The Little Foxes\, a searing Broadway and silver screen classic\, storms into Island City Stage with all its ruthless ambition\, razor-sharp dialogue\, and Southern gothic splendor from January 8 – February 1. Tickets are on sale now. \nSet in the Deep South at the turn of the 20th century\, this gripping drama follows the wealthy but morally bankrupt Hubbard family\, bound by blood but torn apart by greed. At the center is Regina\, a calculating and charismatic woman determined to get her share of the American Dream—no matter the cost. Together with her cruel brothers Oscar and Benjamin\, the Hubbards will stop at nothing to secure a fortune. But when Regina’s ailing husband refuses to fund their scheme\, the claws come out and the lies begin to spiral. With money on the line and family loyalty up for sale\, the Hubbards prove one chilling truth: some people eat the earth—and some just stand by and watch. \nThe original Broadway production of The Little Foxes opened in 1939 at the National Theatre and ran for 410 performances. It originally starred Tallulah Bankhead as Regina Hubbard Giddens who went on to win awards and reprise her role in the 1941 radio adaptation. It was Bette Davis\, however\, who starred in the film adaptation alongside the other Broadway stars making their film debuts. Over the years and many incarnations of the play\, the coveted role of the malevolently\, ruthlessly scheming Regina Giddens has been played by notable actresses including Greer Garson\, Anne Bancroft\, Geraldine Page\, Stockard Channing\, Marg Helgenberger\, Laura Linney and Cynthia Nixon. \nAustin Pendleton directed a production at the Parker Playhouse in Fort Lauderdale for three weeks that transferred to the Kennedy Center in Washington\, D.C.\, for six weeks before opening on Broadway in 1981\, at the Martin Beck Theatre for 123 performances and eight previews. The cast included Elizabeth Taylor as Regina\, Tom Aldredge as Horace\, Dennis Christopher as Leo\, Maureen Stapleton as Birdie\, and Anthony Zerbe as Benjamin. Taylor received nominations for both the Tony Award for Best Performance by a Leading Actress in a Play and the Drama Desk Award for Outstanding Actress in a Play. Tony nominations also went to Pendleton for Best Direction of a Play\, Aldredge for Best Featured Actor in a Play\, Stapleton for Best Featured Actress in a Play\, and the play itself for Best Revival. \nIsland City Stage’s production of The Little Foxes is directed by Michael Leeds and stars Mia Matthews (Regina)\, Margery Lowe (Birdie)\, Christopher Dreeson (Horace)\, JohnBarry Green (Oscar)\, Cary Brianna Hart (Haddie)\, Christian Cooper (Leo)\, Jeff Burleson (Marshall)\, Mallory Flory (Alexandra)\, Randy Coleman (Cal)\, and Steve Trovillion (Ben). \nThe Little Foxes co-producers are Thel Boyette & David Page\, Lights and Sound Sponsors are Glenn Goldberg & Robert Lee\, Talent Sponsors are Art & Fran Greenberg and Costume Sponsor is Scott Bennett. Additional funding is provided by the following: The Our Fund Foundation\, The Schubert Foundation Inc.\, the SHS Foundation\, the Warten Foundation\, OutClique and the Broward County Board of County Commissioners as recommended by the Broward Cultural Council. \nIndividual show tickets start at $45. A special Women’s Night at the Theatre sponsored by Caryl Stevens will take place on January 23. The show runs for two hours and 30 minutes including two intermissions. \nFrom twisted tales to touching human stories\, Island City Stage’s upcoming season invites you to expect the unexpected. Upcoming bold productions\, each delivering unexpected twists\, inventive storytelling\, and unforgettable theatrical moments Everything Beautiful Happens at Night by Ted Malawer from April 2 – 26; Light Switch by Dave Osmundsen from May 21 – June 14 and Eureka Day by Jonathan Spector from August 20 – September 20. \nIsland City Stage will also be offering two Flexpass options this season. The Flexpass5 ($225) offers five tickets that can be used all for one show or one for every show (no processing fees) and $5 off additional tickets purchased. The Flexpass3 ($136) offers three tickets that can be used all for one show or one for every show (no processing fees) and $5 off additional tickets purchased. Discounts are available for groups.
URL:https://sfbwmag.com/events/island-city-stage-presents-the-little-foxes/
LOCATION:Island City Stage\, 2304 N. Dixie Highway\, Wilton Manors\, Florida\, 33305\, United States
ATTACH;FMTTYPE=image/jpeg:https://sfbwmag.com/wp-content/uploads/2026/01/Social-2.jpg
END:VEVENT
BEGIN:VEVENT
DTSTART;TZID=America/New_York:20251216T190000
DTEND;TZID=America/New_York:20260217T210000
DTSTAMP:20260419T224423
CREATED:20251126T132742Z
LAST-MODIFIED:20251126T132742Z
UID:112632-1765911600-1771362000@sfbwmag.com
SUMMARY:Bonsai Bar Workshop at The Funky Buddha Brewery
DESCRIPTION:Beginner workshops are perfect for you to grab your friends\, grab a drink and come make tiny trees! We’re bringing the awesome art of bonsai out of the hedged in gardens and into the streets! Or at least into your favorite bars/breweries/pubs. Bonsai Bar is a night of fun you don’t want to miss. Learn the fundamental skills and techniques behind the art of bonsai while enjoying a night out with friends! Our teachers will introduce core concepts and guide your experience as you pot\, prune\, and design your very own bonsai tree! Our Guarantee: These tiny trees are so hardy we guarantee you can keep yours alive\, or we’ll replace it. \nThis workshop will be hosted at The Funky Buddha Brewery\, a large brewery headquartered in Oakland Park\, Florida. \nUnder 21 policy: Please contact The Funky Buddha Brewery for details regarding underage entry \nFor more about Bonsai Bar and what to expect at our classes\, visit our website at: http://bonsaibar.com/products/the-funky-buddha-brewery\nHappens on the following Dates:\nDec 16\, 2025\, 7:00pm to 9:00pm Timezone: Eastern Time (US & Canada)\nJan 20\, 2026\, 7:00pm to 9:00pm Timezone: Eastern Time (US & Canada)\nFeb 3\, 2026\, 7:00pm to 9:00pm Timezone: Eastern Time (US & Canada)\nFeb 17\, 2026\, 7:00pm to 9:00pm Timezone: Eastern Time (US & Canada)
URL:https://sfbwmag.com/events/bonsai-bar-workshop-at-the-funky-buddha-brewery-2/
LOCATION:The Funky Buddha Brewery\, 1201 NE 38th St\, Oakland Park\, Florida\, 33334\, United States
ATTACH;FMTTYPE=image/jpeg:https://sfbwmag.com/wp-content/uploads/2025/11/122566-Bonsai-Bar-Workshop-at-The-Funky-Buddha-Brewery.jpg
END:VEVENT
BEGIN:VEVENT
DTSTART;TZID=America/New_York:20251210T100000
DTEND;TZID=America/New_York:20260125T160000
DTSTAMP:20260419T224423
CREATED:20251126T132615Z
LAST-MODIFIED:20251126T132622Z
UID:112588-1765360800-1769356800@sfbwmag.com
SUMMARY:History Fort Lauderdale Presents “Tropical Chill\,” A Contemporary Fine Art Exhibit
DESCRIPTION:History Fort Lauderdale\, committed to preserving our collective heritage\, promoting historical literacy\, and fostering a sense of pride and stewardship for the vibrant tapestry of our region’s history\, will present “Tropical Chill\,” a contemporary fine art exhibit that captures the serene spirit and coastal hues of South Florida’s mild winter season. The exhibit\, on view from Wednesday\, December 10\, 2025\, through Sunday\, January 25\, 2026\, will showcase paintings\, mixed media\, and photography by celebrated local artists Phoenix\, Lori Arbel\, Kim Heise\, and Karin Batchelder\, along with select works and photographs from History Fort Lauderdale’s permanent collection. \nThe “Tropical Chill” exhibition captures the cheerful spirit of South Florida’s winter when the days are bright\, breezy\, and full of color. The exhibit brings together local artists who find inspiration in nature\, emotion\, and everyday life. Their paintings\, photography\, and mixed media pieces share stories of reflection and transformation\, each one shaped by the beauty and rhythm of our region. \nHistory Fort Lauderdale’s “Tropical Chill” exhibit is sponsored by the following funds at the Community Foundation of Broward: Jan and Ed Crocker Unrestricted Fund\, Leo M. and Alice J. Rutten Fund\, and The Frederick A. DeLuca Foundation Broward Community Fund. Additional funding is provided\, in part\, by Broward County Board of County Commissioners as recommended by the Broward County Cultural Council and Visit Lauderdale. \nHistory Fort Lauderdale offers a variety of engaging multicultural experiences throughout the year. It seeks to bring awareness to the community through both traveling exhibits and multiple permanent displays including “Women Trailblazers\,” “Fort Lauderdale – the Early Years\,” “Roots of Resilience: The Journey of Black Broward\,” “From Dugouts to Dream Yachts: The Story of Boatbuilding Along the New River\,” “Seminole Arts & Culture\,” “New River Archaeology\,” “Viva Fort Lauderdale: Celebrating Hispanic Art & Culture\,” “The Growth and History of the Broward County Sheriff’s Office\,” and “Take PRIDE\, a Retrospective on LGBTQ Life in South Florida.” \nHistory Fort Lauderdale is open seven days a week from 10 a.m. to 4 p.m.\, with docent-guided tours offered daily at 1\, 2\, and 3 p.m. Group walking tours are available upon special request. Admission is $15 for adults; $12 for seniors; and $7 for students (through age 22 with a valid student ID). Admission is free for members\, military personnel\, and children aged six and under. Tickets are available online at HistoryFortLauderdaleTickets. \nFor more information about History Fort Lauderdale\, please call (954) 463-4431 or visit historyfortlauderdale.org.
URL:https://sfbwmag.com/events/history-fort-lauderdale-presents-tropical-chill-a-contemporary-fine-art-exhibit/
LOCATION:Florida
END:VEVENT
END:VCALENDAR